BEGIN:VCALENDAR
VERSION:2.0
PRODID:-//Potatoes SA - ECPv6.15.20//NONSGML v1.0//EN
CALSCALE:GREGORIAN
METHOD:PUBLISH
X-WR-CALNAME:Potatoes SA
X-ORIGINAL-URL:https://www.potatoes.co.za
X-WR-CALDESC:Events for Potatoes SA
REFRESH-INTERVAL;VALUE=DURATION:PT1H
X-Robots-Tag:noindex
X-PUBLISHED-TTL:PT1H
BEGIN:VTIMEZONE
TZID:Europe/Helsinki
BEGIN:DAYLIGHT
TZOFFSETFROM:+0200
TZOFFSETTO:+0300
TZNAME:EEST
DTSTART:20250330T010000
END:DAYLIGHT
BEGIN:STANDARD
TZOFFSETFROM:+0300
TZOFFSETTO:+0200
TZNAME:EET
DTSTART:20251026T010000
END:STANDARD
BEGIN:DAYLIGHT
TZOFFSETFROM:+0200
TZOFFSETTO:+0300
TZNAME:EEST
DTSTART:20260329T010000
END:DAYLIGHT
BEGIN:STANDARD
TZOFFSETFROM:+0300
TZOFFSETTO:+0200
TZNAME:EET
DTSTART:20261025T010000
END:STANDARD
BEGIN:DAYLIGHT
TZOFFSETFROM:+0200
TZOFFSETTO:+0300
TZNAME:EEST
DTSTART:20270328T010000
END:DAYLIGHT
BEGIN:STANDARD
TZOFFSETFROM:+0300
TZOFFSETTO:+0200
TZNAME:EET
DTSTART:20271031T010000
END:STANDARD
END:VTIMEZONE
BEGIN:VEVENT
DTSTART;TZID=Europe/Helsinki:20261007T083000
DTEND;TZID=Europe/Helsinki:20261007T113000
DTSTAMP:20260419T231024
CREATED:20260112T120025Z
LAST-MODIFIED:20260112T120025Z
UID:19944-1791361800-1791372600@www.potatoes.co.za
SUMMARY:Information Committee Meeting
DESCRIPTION:
URL:https://www.potatoes.co.za/event/information-committee-meeting-3/
END:VEVENT
BEGIN:VEVENT
DTSTART;TZID=Europe/Helsinki:20261007T123000
DTEND;TZID=Europe/Helsinki:20261007T163000
DTSTAMP:20260419T231024
CREATED:20260112T120105Z
LAST-MODIFIED:20260112T120105Z
UID:19946-1791376200-1791390600@www.potatoes.co.za
SUMMARY:Marketing Committee Meeting
DESCRIPTION:
URL:https://www.potatoes.co.za/event/marketing-committee-meeting-3/
END:VEVENT
END:VCALENDAR