BEGIN:VCALENDAR
VERSION:2.0
PRODID:-//Potatoes SA - ECPv6.15.20//NONSGML v1.0//EN
CALSCALE:GREGORIAN
METHOD:PUBLISH
X-ORIGINAL-URL:https://www.potatoes.co.za
X-WR-CALDESC:Events for Potatoes SA
REFRESH-INTERVAL;VALUE=DURATION:PT1H
X-Robots-Tag:noindex
X-PUBLISHED-TTL:PT1H
BEGIN:VTIMEZONE
TZID:Europe/Helsinki
BEGIN:DAYLIGHT
TZOFFSETFROM:+0200
TZOFFSETTO:+0300
TZNAME:EEST
DTSTART:20260329T010000
END:DAYLIGHT
BEGIN:STANDARD
TZOFFSETFROM:+0300
TZOFFSETTO:+0200
TZNAME:EET
DTSTART:20261025T010000
END:STANDARD
BEGIN:DAYLIGHT
TZOFFSETFROM:+0200
TZOFFSETTO:+0300
TZNAME:EEST
DTSTART:20270328T010000
END:DAYLIGHT
BEGIN:STANDARD
TZOFFSETFROM:+0300
TZOFFSETTO:+0200
TZNAME:EET
DTSTART:20271031T010000
END:STANDARD
BEGIN:DAYLIGHT
TZOFFSETFROM:+0200
TZOFFSETTO:+0300
TZNAME:EEST
DTSTART:20280326T010000
END:DAYLIGHT
BEGIN:STANDARD
TZOFFSETFROM:+0300
TZOFFSETTO:+0200
TZNAME:EET
DTSTART:20281029T010000
END:STANDARD
END:VTIMEZONE
BEGIN:VEVENT
DTSTART;VALUE=DATE:20270407
DTEND;VALUE=DATE:20270408
DTSTAMP:20260420T010248
CREATED:20260112T122238Z
LAST-MODIFIED:20260112T122238Z
UID:19985-1807056000-1807142399@www.potatoes.co.za
SUMMARY:Western Region Seed Potato Growers Meeting (Douglas)
DESCRIPTION:
URL:https://www.potatoes.co.za/event/western-region-seed-potato-growers-meeting-douglas/
END:VEVENT
BEGIN:VEVENT
DTSTART;VALUE=DATE:20270519
DTEND;VALUE=DATE:20270520
DTSTAMP:20260420T010248
CREATED:20260112T122345Z
LAST-MODIFIED:20260112T122345Z
UID:19987-1810684800-1810771199@www.potatoes.co.za
SUMMARY:Northern Seed Growers Meeting\, Raasblaar\, Marble Hall
DESCRIPTION:
URL:https://www.potatoes.co.za/event/northern-seed-growers-meeting-raasblaar-marble-hall-2/
END:VEVENT
BEGIN:VEVENT
DTSTART;VALUE=DATE:20270601
DTEND;VALUE=DATE:20270602
DTSTAMP:20260420T010248
CREATED:20260112T122450Z
LAST-MODIFIED:20260112T122450Z
UID:19989-1811808000-1811894399@www.potatoes.co.za
SUMMARY:Plantovita BoD
DESCRIPTION:
URL:https://www.potatoes.co.za/event/plantovita-bod/
END:VEVENT
BEGIN:VEVENT
DTSTART;TZID=Europe/Helsinki:20270601T140000
DTEND;TZID=Europe/Helsinki:20270601T170000
DTSTAMP:20260420T010248
CREATED:20260112T122553Z
LAST-MODIFIED:20260112T122553Z
UID:19991-1811858400-1811869200@www.potatoes.co.za
SUMMARY:National Seed Potato Committee
DESCRIPTION:
URL:https://www.potatoes.co.za/event/national-seed-potato-committee-6/
END:VEVENT
END:VCALENDAR