BEGIN:VCALENDAR
VERSION:2.0
PRODID:-//Potatoes SA - ECPv6.15.20//NONSGML v1.0//EN
CALSCALE:GREGORIAN
METHOD:PUBLISH
X-WR-CALNAME:Potatoes SA
X-ORIGINAL-URL:https://www.potatoes.co.za
X-WR-CALDESC:Events for Potatoes SA
REFRESH-INTERVAL;VALUE=DURATION:PT1H
X-Robots-Tag:noindex
X-PUBLISHED-TTL:PT1H
BEGIN:VTIMEZONE
TZID:Europe/Helsinki
BEGIN:DAYLIGHT
TZOFFSETFROM:+0200
TZOFFSETTO:+0300
TZNAME:EEST
DTSTART:20250330T010000
END:DAYLIGHT
BEGIN:STANDARD
TZOFFSETFROM:+0300
TZOFFSETTO:+0200
TZNAME:EET
DTSTART:20251026T010000
END:STANDARD
BEGIN:DAYLIGHT
TZOFFSETFROM:+0200
TZOFFSETTO:+0300
TZNAME:EEST
DTSTART:20260329T010000
END:DAYLIGHT
BEGIN:STANDARD
TZOFFSETFROM:+0300
TZOFFSETTO:+0200
TZNAME:EET
DTSTART:20261025T010000
END:STANDARD
BEGIN:DAYLIGHT
TZOFFSETFROM:+0200
TZOFFSETTO:+0300
TZNAME:EEST
DTSTART:20270328T010000
END:DAYLIGHT
BEGIN:STANDARD
TZOFFSETFROM:+0300
TZOFFSETTO:+0200
TZNAME:EET
DTSTART:20271031T010000
END:STANDARD
END:VTIMEZONE
BEGIN:VEVENT
DTSTART;VALUE=DATE:20260303
DTEND;VALUE=DATE:20260304
DTSTAMP:20260419T232111
CREATED:20250922T124328Z
LAST-MODIFIED:20250922T124328Z
UID:19426-1772496000-1772582399@www.potatoes.co.za
SUMMARY:Potato Regulated Pest Committee (PRPC) Meeting (provisional)
DESCRIPTION:
URL:https://www.potatoes.co.za/event/potato-regulated-pest-committee-prpc-meeting-provisional/
END:VEVENT
BEGIN:VEVENT
DTSTART;VALUE=DATE:20260305
DTEND;VALUE=DATE:20260306
DTSTAMP:20260419T232111
CREATED:20251006T081224Z
LAST-MODIFIED:20251006T081224Z
UID:19546-1772668800-1772755199@www.potatoes.co.za
SUMMARY:EFS Groentoer Day
DESCRIPTION:
URL:https://www.potatoes.co.za/event/efs-groentoer-day/
END:VEVENT
BEGIN:VEVENT
DTSTART;TZID=Europe/Helsinki:20260310T090000
DTEND;TZID=Europe/Helsinki:20260310T123000
DTSTAMP:20260419T232111
CREATED:20250922T124524Z
LAST-MODIFIED:20260113T095507Z
UID:19428-1773133200-1773145800@www.potatoes.co.za
SUMMARY:Transformation Committee Meeting
DESCRIPTION:
URL:https://www.potatoes.co.za/event/transformation-committee-meeting-2/
END:VEVENT
BEGIN:VEVENT
DTSTART;TZID=Europe/Helsinki:20260311T083000
DTEND;TZID=Europe/Helsinki:20260311T113000
DTSTAMP:20260419T232111
CREATED:20250922T124726Z
LAST-MODIFIED:20250922T124726Z
UID:19430-1773217800-1773228600@www.potatoes.co.za
SUMMARY:Information Committee Meeting
DESCRIPTION:
URL:https://www.potatoes.co.za/event/information-committee-meeting-2/
END:VEVENT
BEGIN:VEVENT
DTSTART;TZID=Europe/Helsinki:20260311T123000
DTEND;TZID=Europe/Helsinki:20260311T163000
DTSTAMP:20260419T232111
CREATED:20250922T124920Z
LAST-MODIFIED:20250922T124920Z
UID:19432-1773232200-1773246600@www.potatoes.co.za
SUMMARY:Marketing Committee Meeting
DESCRIPTION:
URL:https://www.potatoes.co.za/event/marketing-committee-meeting-2/
END:VEVENT
BEGIN:VEVENT
DTSTART;TZID=Europe/Helsinki:20260312T083000
DTEND;TZID=Europe/Helsinki:20260312T133000
DTSTAMP:20260419T232111
CREATED:20250922T125042Z
LAST-MODIFIED:20250922T125042Z
UID:19434-1773304200-1773322200@www.potatoes.co.za
SUMMARY:Research Committee Meeting
DESCRIPTION:
URL:https://www.potatoes.co.za/event/research-committee-meeting-3/
END:VEVENT
BEGIN:VEVENT
DTSTART;TZID=Europe/Helsinki:20260312T140000
DTEND;TZID=Europe/Helsinki:20260312T170000
DTSTAMP:20260419T232111
CREATED:20250922T125147Z
LAST-MODIFIED:20250922T125147Z
UID:19436-1773324000-1773334800@www.potatoes.co.za
SUMMARY:PIF Steering Committee
DESCRIPTION:
URL:https://www.potatoes.co.za/event/pif-steering-committee/
END:VEVENT
BEGIN:VEVENT
DTSTART;TZID=Europe/Helsinki:20260316T120000
DTEND;TZID=Europe/Helsinki:20260316T170000
DTSTAMP:20260419T232111
CREATED:20250922T125250Z
LAST-MODIFIED:20260113T095804Z
UID:19438-1773662400-1773680400@www.potatoes.co.za
SUMMARY:Potato House Maintenance Meeting
DESCRIPTION:
URL:https://www.potatoes.co.za/event/potato-house-maintenance-meeting-2/
END:VEVENT
BEGIN:VEVENT
DTSTART;VALUE=DATE:20260323
DTEND;VALUE=DATE:20260324
DTSTAMP:20260419T232111
CREATED:20260112T111641Z
LAST-MODIFIED:20260112T111641Z
UID:19888-1774224000-1774310399@www.potatoes.co.za
SUMMARY:TRUST Visit (Ceres)
DESCRIPTION:
URL:https://www.potatoes.co.za/event/trust-visit-ceres/
END:VEVENT
END:VCALENDAR