BEGIN:VCALENDAR
VERSION:2.0
PRODID:-//Potatoes SA - ECPv6.15.20//NONSGML v1.0//EN
CALSCALE:GREGORIAN
METHOD:PUBLISH
X-WR-CALNAME:Potatoes SA
X-ORIGINAL-URL:https://www.potatoes.co.za
X-WR-CALDESC:Events for Potatoes SA
REFRESH-INTERVAL;VALUE=DURATION:PT1H
X-Robots-Tag:noindex
X-PUBLISHED-TTL:PT1H
BEGIN:VTIMEZONE
TZID:Europe/Helsinki
BEGIN:DAYLIGHT
TZOFFSETFROM:+0200
TZOFFSETTO:+0300
TZNAME:EEST
DTSTART:20250330T010000
END:DAYLIGHT
BEGIN:STANDARD
TZOFFSETFROM:+0300
TZOFFSETTO:+0200
TZNAME:EET
DTSTART:20251026T010000
END:STANDARD
BEGIN:DAYLIGHT
TZOFFSETFROM:+0200
TZOFFSETTO:+0300
TZNAME:EEST
DTSTART:20260329T010000
END:DAYLIGHT
BEGIN:STANDARD
TZOFFSETFROM:+0300
TZOFFSETTO:+0200
TZNAME:EET
DTSTART:20261025T010000
END:STANDARD
BEGIN:DAYLIGHT
TZOFFSETFROM:+0200
TZOFFSETTO:+0300
TZNAME:EEST
DTSTART:20270328T010000
END:DAYLIGHT
BEGIN:STANDARD
TZOFFSETFROM:+0300
TZOFFSETTO:+0200
TZNAME:EET
DTSTART:20271031T010000
END:STANDARD
END:VTIMEZONE
BEGIN:VEVENT
DTSTART;TZID=Europe/Helsinki:20260602T090000
DTEND;TZID=Europe/Helsinki:20260602T120000
DTSTAMP:20260420T010603
CREATED:20260112T114312Z
LAST-MODIFIED:20260112T114411Z
UID:19908-1780390800-1780401600@www.potatoes.co.za
SUMMARY:Plantovita Board of Directors
DESCRIPTION:
URL:https://www.potatoes.co.za/event/plantovita-board-of-directors-4/
END:VEVENT
BEGIN:VEVENT
DTSTART;TZID=Europe/Helsinki:20260602T140000
DTEND;TZID=Europe/Helsinki:20260602T170000
DTSTAMP:20260420T010603
CREATED:20260112T114512Z
LAST-MODIFIED:20260112T114512Z
UID:19910-1780408800-1780419600@www.potatoes.co.za
SUMMARY:National Seed Potato Committee
DESCRIPTION:
URL:https://www.potatoes.co.za/event/national-seed-potato-committee-5/
END:VEVENT
BEGIN:VEVENT
DTSTART;VALUE=DATE:20260603
DTEND;VALUE=DATE:20260604
DTSTAMP:20260420T010603
CREATED:20260112T114601Z
LAST-MODIFIED:20260112T114601Z
UID:19912-1780444800-1780531199@www.potatoes.co.za
SUMMARY:ICCSP
DESCRIPTION:
URL:https://www.potatoes.co.za/event/iccsp-6/
END:VEVENT
BEGIN:VEVENT
DTSTART;VALUE=DATE:20260603
DTEND;VALUE=DATE:20260604
DTSTAMP:20260420T010603
CREATED:20260112T114649Z
LAST-MODIFIED:20260112T114649Z
UID:19914-1780444800-1780531199@www.potatoes.co.za
SUMMARY:PCS Board
DESCRIPTION:
URL:https://www.potatoes.co.za/event/pcs-board-2/
END:VEVENT
BEGIN:VEVENT
DTSTART;VALUE=DATE:20260604
DTEND;VALUE=DATE:20260605
DTSTAMP:20260420T010603
CREATED:20260112T114725Z
LAST-MODIFIED:20260112T114725Z
UID:19916-1780531200-1780617599@www.potatoes.co.za
SUMMARY:Joint Pension Fund Meeting
DESCRIPTION:
URL:https://www.potatoes.co.za/event/joint-pension-fund-meeting-4/
END:VEVENT
BEGIN:VEVENT
DTSTART;TZID=Europe/Helsinki:20260610T100000
DTEND;TZID=Europe/Helsinki:20260610T140000
DTSTAMP:20260420T010603
CREATED:20260112T114819Z
LAST-MODIFIED:20260113T101230Z
UID:19918-1781085600-1781100000@www.potatoes.co.za
SUMMARY:PIDT
DESCRIPTION:
URL:https://www.potatoes.co.za/event/pidt-4/
END:VEVENT
BEGIN:VEVENT
DTSTART;VALUE=DATE:20260623
DTEND;VALUE=DATE:20260624
DTSTAMP:20260420T010603
CREATED:20260112T114900Z
LAST-MODIFIED:20260112T114900Z
UID:19920-1782172800-1782259199@www.potatoes.co.za
SUMMARY:Risk and Audit Planning Meeting
DESCRIPTION:
URL:https://www.potatoes.co.za/event/risk-and-audit-planning-meeting-2/
END:VEVENT
END:VCALENDAR