BEGIN:VCALENDAR
VERSION:2.0
PRODID:-//Potatoes SA - ECPv6.15.20//NONSGML v1.0//EN
CALSCALE:GREGORIAN
METHOD:PUBLISH
X-WR-CALNAME:Potatoes SA
X-ORIGINAL-URL:https://www.potatoes.co.za
X-WR-CALDESC:Events for Potatoes SA
REFRESH-INTERVAL;VALUE=DURATION:PT1H
X-Robots-Tag:noindex
X-PUBLISHED-TTL:PT1H
BEGIN:VTIMEZONE
TZID:Europe/Helsinki
BEGIN:DAYLIGHT
TZOFFSETFROM:+0200
TZOFFSETTO:+0300
TZNAME:EEST
DTSTART:20250330T010000
END:DAYLIGHT
BEGIN:STANDARD
TZOFFSETFROM:+0300
TZOFFSETTO:+0200
TZNAME:EET
DTSTART:20251026T010000
END:STANDARD
BEGIN:DAYLIGHT
TZOFFSETFROM:+0200
TZOFFSETTO:+0300
TZNAME:EEST
DTSTART:20260329T010000
END:DAYLIGHT
BEGIN:STANDARD
TZOFFSETFROM:+0300
TZOFFSETTO:+0200
TZNAME:EET
DTSTART:20261025T010000
END:STANDARD
BEGIN:DAYLIGHT
TZOFFSETFROM:+0200
TZOFFSETTO:+0300
TZNAME:EEST
DTSTART:20270328T010000
END:DAYLIGHT
BEGIN:STANDARD
TZOFFSETFROM:+0300
TZOFFSETTO:+0200
TZNAME:EET
DTSTART:20271031T010000
END:STANDARD
END:VTIMEZONE
BEGIN:VEVENT
DTSTART;TZID=Europe/Helsinki:20261006T080000
DTEND;TZID=Europe/Helsinki:20261006T170000
DTSTAMP:20260419T212641
CREATED:20260112T115857Z
LAST-MODIFIED:20260112T115857Z
UID:19942-1791273600-1791306000@www.potatoes.co.za
SUMMARY:Transformation Committee Meeting
DESCRIPTION:
URL:https://www.potatoes.co.za/event/transformation-committee-meeting-3/
END:VEVENT
BEGIN:VEVENT
DTSTART;TZID=Europe/Helsinki:20261007T083000
DTEND;TZID=Europe/Helsinki:20261007T113000
DTSTAMP:20260419T212641
CREATED:20260112T120025Z
LAST-MODIFIED:20260112T120025Z
UID:19944-1791361800-1791372600@www.potatoes.co.za
SUMMARY:Information Committee Meeting
DESCRIPTION:
URL:https://www.potatoes.co.za/event/information-committee-meeting-3/
END:VEVENT
BEGIN:VEVENT
DTSTART;TZID=Europe/Helsinki:20261007T123000
DTEND;TZID=Europe/Helsinki:20261007T163000
DTSTAMP:20260419T212641
CREATED:20260112T120105Z
LAST-MODIFIED:20260112T120105Z
UID:19946-1791376200-1791390600@www.potatoes.co.za
SUMMARY:Marketing Committee Meeting
DESCRIPTION:
URL:https://www.potatoes.co.za/event/marketing-committee-meeting-3/
END:VEVENT
BEGIN:VEVENT
DTSTART;TZID=Europe/Helsinki:20261008T083000
DTEND;TZID=Europe/Helsinki:20261008T133000
DTSTAMP:20260419T212641
CREATED:20260112T120155Z
LAST-MODIFIED:20260112T120155Z
UID:19948-1791448200-1791466200@www.potatoes.co.za
SUMMARY:Research Committee Meeting
DESCRIPTION:
URL:https://www.potatoes.co.za/event/research-committee-meeting-4/
END:VEVENT
BEGIN:VEVENT
DTSTART;VALUE=DATE:20261013
DTEND;VALUE=DATE:20261014
DTSTAMP:20260419T212641
CREATED:20260112T120246Z
LAST-MODIFIED:20260112T120246Z
UID:19950-1791849600-1791935999@www.potatoes.co.za
SUMMARY:Plant Improvement Certification Forum (PICF)
DESCRIPTION:
URL:https://www.potatoes.co.za/event/plant-improvement-certification-forum-picf-2/
END:VEVENT
BEGIN:VEVENT
DTSTART;TZID=Europe/Helsinki:20261020T110000
DTEND;TZID=Europe/Helsinki:20261020T130000
DTSTAMP:20260419T212641
CREATED:20260112T120433Z
LAST-MODIFIED:20260112T120433Z
UID:19954-1792494000-1792501200@www.potatoes.co.za
SUMMARY:Potato House Board
DESCRIPTION:
URL:https://www.potatoes.co.za/event/potato-house-board-6/
END:VEVENT
BEGIN:VEVENT
DTSTART;TZID=Europe/Helsinki:20261020T140000
DTEND;TZID=Europe/Helsinki:20261020T170000
DTSTAMP:20260419T212641
CREATED:20260112T120339Z
LAST-MODIFIED:20260112T120339Z
UID:19952-1792504800-1792515600@www.potatoes.co.za
SUMMARY:HR Committee
DESCRIPTION:
URL:https://www.potatoes.co.za/event/hr-committee-2/
END:VEVENT
BEGIN:VEVENT
DTSTART;TZID=Europe/Helsinki:20261021T090000
DTEND;TZID=Europe/Helsinki:20261021T120000
DTSTAMP:20260419T212641
CREATED:20260112T120559Z
LAST-MODIFIED:20260113T114942Z
UID:19956-1792573200-1792584000@www.potatoes.co.za
SUMMARY:Risk and Audit Committee
DESCRIPTION:
URL:https://www.potatoes.co.za/event/risk-and-audit-committee/
END:VEVENT
BEGIN:VEVENT
DTSTART;VALUE=DATE:20261027
DTEND;VALUE=DATE:20261028
DTSTAMP:20260419T212641
CREATED:20260112T120659Z
LAST-MODIFIED:20260112T120659Z
UID:19958-1793059200-1793145599@www.potatoes.co.za
SUMMARY:PCS Workshop
DESCRIPTION:
URL:https://www.potatoes.co.za/event/pcs-workshop-4/
END:VEVENT
END:VCALENDAR